BEGIN:VCALENDAR
VERSION:2.0
PRODID:-//104.152.168.27//NONSGML kigkonsult.se iCalcreator 2.20//
CALSCALE:GREGORIAN
METHOD:PUBLISH
X-WR-TIMEZONE:Asia/Tokyo
BEGIN:VEVENT
UID:event19077@Tokyo Gig Guide
DTSTAMP:20260424T214720Z
CATEGORIES:Instrumental\, Progressive
DESCRIPTION:Daisaku Kume\, Vagabond Suzuki\, Yasuo Sano\, Natsuki Kido\, Ka
 ori Takahashi\nCategory: Instrumental\, Progressive\nLink: https://www.tok
 yogigguide.com/index.php?option=com_jem&view=event&id=19077:daisaku-kume-v
 agabond-suzuki-yasuo-sano-natsuki-kido-kaori-takahashi&Itemid=1094\n
DTSTART:20180327T183000
DTEND:20180327T183000
LOCATION:Jirokichi\,Koenji Bldg B1\, 2-3-4 Koenji-kita\,Koenji
SUMMARY:Daisaku Kume\, Vagabond Suzuki\, Yasuo Sano\, Natsuki Kido\, Kaori 
 Takahashi
URL:https://www.tokyogigguide.com/index.php?option=com_jem&view=event&id=19
 077:daisaku-kume-vagabond-suzuki-yasuo-sano-natsuki-kido-kaori-takahashi&I
 temid=1094
END:VEVENT
END:VCALENDAR
