BEGIN:VCALENDAR
VERSION:2.0
PRODID:-//104.152.168.27//NONSGML kigkonsult.se iCalcreator 2.20//
CALSCALE:GREGORIAN
METHOD:PUBLISH
X-WR-TIMEZONE:Asia/Tokyo
BEGIN:VEVENT
UID:event19145@Tokyo Gig Guide
DTSTAMP:20260423T235424Z
CATEGORIES:All Mix\, Alternative\, Performance\, WTF?
DESCRIPTION:ONI'S EGG vol. 1: ONI\, IKA KUN with THE DOPPELGANGERS\, OTAKU 
 BOI\, DJ PIKACHU\, VJ KIMONO\nCategory: All Mix\, Alternative\, Performanc
 e\, WTF?\nLink: https://www.tokyogigguide.com/index.php?option=com_jem&vie
 w=event&id=19145:oni-ika-kun-otakuboi-dj-pikachu-vj-kimono&Itemid=1094\n
DTSTART:20180330T190000
DTEND:20180330T190000
LOCATION:Knock (Koenji)\,Koenji Minami 3-48-6  B1F\,Koenji
SUMMARY:ONI'S EGG vol. 1: ONI\, IKA KUN with THE DOPPELGANGERS\, OTAKU BOI\
 , DJ PIKACHU\, VJ KIMONO
URL:https://www.tokyogigguide.com/index.php?option=com_jem&view=event&id=19
 145:oni-ika-kun-otakuboi-dj-pikachu-vj-kimono&Itemid=1094
END:VEVENT
END:VCALENDAR
