BEGIN:VCALENDAR
VERSION:2.0
PRODID:-//104.152.168.27//NONSGML kigkonsult.se iCalcreator 2.20//
CALSCALE:GREGORIAN
METHOD:PUBLISH
X-WR-TIMEZONE:Asia/Tokyo
BEGIN:VEVENT
UID:event19487@Tokyo Gig Guide
DTSTAMP:20260424T015931Z
CATEGORIES:All Mix\, Blues\, Instrumental\, Jazz
DESCRIPTION:Natsuki Kido\, Tomokazu Sugimoto\, Yoshihito Eto\nCategory: All
  Mix\, Blues\, Instrumental\, Jazz\nLink: https://www.tokyogigguide.com/in
 dex.php?option=com_jem&view=event&id=19487:natsuki-kido-tomokazu-sugimoto-
 yoshihito-eto&Itemid=1094\n
DTSTART:20180525T183000
DTEND:20180525T183000
LOCATION:Dolphy\,2-17-4-2F Miyagawa-cho\, Naka-ku\, Yokohama\,Yokohama
SUMMARY:Natsuki Kido\, Tomokazu Sugimoto\, Yoshihito Eto
URL:https://www.tokyogigguide.com/index.php?option=com_jem&view=event&id=19
 487:natsuki-kido-tomokazu-sugimoto-yoshihito-eto&Itemid=1094
END:VEVENT
END:VCALENDAR
