BEGIN:VCALENDAR
VERSION:2.0
PRODID:-//104.152.168.27//NONSGML kigkonsult.se iCalcreator 2.20//
CALSCALE:GREGORIAN
METHOD:PUBLISH
X-WR-TIMEZONE:Asia/Tokyo
BEGIN:VEVENT
UID:event19547@Tokyo Gig Guide
DTSTAMP:20260424T014323Z
CATEGORIES:Avant garde\, Blues\, Instrumental\, Rock
DESCRIPTION:COIL (Natsuki Kido\, Takeharu Hayakawa\, Tsutomu Nakayama\, Eij
 i Tanaka)\nCategory: Avant garde\, Blues\, Instrumental\, Rock\nLink: http
 s://www.tokyogigguide.com/index.php?option=com_jem&view=event&id=19547:coi
 l-natsuki-kido-takeharu-hayakawa-tsutomu-nakayama-eiji-tanaka&Itemid=1094
 \n
DTSTART:20180608T183000
DTEND:20180608T183000
LOCATION:Ongakushitsu DX\,B1F 3-20-4 Nishiwaseda Shinjuku-ku Tokyo\,Takadan
 obaba
SUMMARY:COIL (Natsuki Kido\, Takeharu Hayakawa\, Tsutomu Nakayama\, Eiji Ta
 naka)
URL:https://www.tokyogigguide.com/index.php?option=com_jem&view=event&id=19
 547:coil-natsuki-kido-takeharu-hayakawa-tsutomu-nakayama-eiji-tanaka&Itemi
 d=1094
END:VEVENT
END:VCALENDAR
