BEGIN:VCALENDAR
VERSION:2.0
PRODID:-//104.152.168.27//NONSGML kigkonsult.se iCalcreator 2.20//
CALSCALE:GREGORIAN
METHOD:PUBLISH
X-WR-TIMEZONE:Asia/Tokyo
BEGIN:VEVENT
UID:event19550@Tokyo Gig Guide
DTSTAMP:20260421T024237Z
CATEGORIES:Avant garde\, Instrumental\, Progressive
DESCRIPTION:ERA Special (Akihisa Tsuboi\, Natsuki Kido\, Hiroyuki Nanba\, K
 enji Sato\, Youichi Okabe)\, Ennui\nCategory: Avant garde\, Instrumental\,
  Progressive\nLink: https://www.tokyogigguide.com/index.php?option=com_jem
 &view=event&id=19550:era-special-akihisa-tsuboi-natsuki-kido-hiroyuki-nanb
 a-kenji-sato-youichi-okabe-ennul&Itemid=1094\n
DTSTART:20180609T180000
DTEND:20180609T180000
LOCATION:Ongakushitsu DX\,B1F 3-20-4 Nishiwaseda Shinjuku-ku Tokyo\,Takadan
 obaba
SUMMARY:ERA Special (Akihisa Tsuboi\, Natsuki Kido\, Hiroyuki Nanba\, Kenji
  Sato\, Youichi Okabe)\, Ennui
URL:https://www.tokyogigguide.com/index.php?option=com_jem&view=event&id=19
 550:era-special-akihisa-tsuboi-natsuki-kido-hiroyuki-nanba-kenji-sato-youi
 chi-okabe-ennul&Itemid=1094
END:VEVENT
END:VCALENDAR
