BEGIN:VCALENDAR
VERSION:2.0
PRODID:-//104.152.168.27//NONSGML kigkonsult.se iCalcreator 2.20//
CALSCALE:GREGORIAN
METHOD:PUBLISH
X-WR-TIMEZONE:Asia/Tokyo
BEGIN:VEVENT
UID:event19694@Tokyo Gig Guide
DTSTAMP:20260424T122049Z
CATEGORIES:All Mix\, Alternative\, Ambient\, Art
DESCRIPTION:Ninja Wi Ninja Dozew\, SEXO\, C.R.Y.\, Chris Baluyut\, Koji Tam
 ura\, The Spilt Ink\nCategory: All Mix\, Alternative\, Ambient\, Art\nLink
 : https://www.tokyogigguide.com/index.php?option=com_jem&view=event&id=196
 94:ninja-wi-ninja-dozew-sexo-c-r-y-chris-baluyut-koji-tamura-the-spilt-ink
 &Itemid=1094\n
DTSTART:20180629T190000
DTEND:20180629T190000
LOCATION:NOB\,Maruyamacho 1-3 BF\, Shibuya-ku\,Shibuya
SUMMARY:Ninja Wi Ninja Dozew\, SEXO\, C.R.Y.\, Chris Baluyut\, Koji Tamura\
 , The Spilt Ink
URL:https://www.tokyogigguide.com/index.php?option=com_jem&view=event&id=19
 694:ninja-wi-ninja-dozew-sexo-c-r-y-chris-baluyut-koji-tamura-the-spilt-in
 k&Itemid=1094
END:VEVENT
END:VCALENDAR
