BEGIN:VCALENDAR
VERSION:2.0
PRODID:-//104.152.168.27//NONSGML kigkonsult.se iCalcreator 2.20//
CALSCALE:GREGORIAN
METHOD:PUBLISH
X-WR-TIMEZONE:Asia/Tokyo
BEGIN:VEVENT
UID:event19756@Tokyo Gig Guide
DTSTAMP:20260424T213457Z
CATEGORIES:Rock\, Rock n Roll
DESCRIPTION:THE FOOBARS\, The Mootekkis\, TEXAS COMMANDO\, RIL\, The MUPPET
 S\, Creep Down\, The Spilt Ink\nCategory: Rock\, Rock n Roll\nLink: https:
 //www.tokyogigguide.com/index.php?option=com_jem&view=event&id=19756:the-f
 oobars-the-mootekkis-texas-commando-ril-the-muppets-creep-down-the-spilt-i
 nk&Itemid=1094\n
DTSTART:20180707T190000
DTEND:20180707T190000
LOCATION:NOB\,Maruyamacho 1-3 BF\, Shibuya-ku\,Shibuya
SUMMARY:THE FOOBARS\, The Mootekkis\, TEXAS COMMANDO\, RIL\, The MUPPETS\, 
 Creep Down\, The Spilt Ink
URL:https://www.tokyogigguide.com/index.php?option=com_jem&view=event&id=19
 756:the-foobars-the-mootekkis-texas-commando-ril-the-muppets-creep-down-th
 e-spilt-ink&Itemid=1094
END:VEVENT
END:VCALENDAR
