BEGIN:VCALENDAR
VERSION:2.0
PRODID:-//104.152.168.27//NONSGML kigkonsult.se iCalcreator 2.20//
CALSCALE:GREGORIAN
METHOD:PUBLISH
X-WR-TIMEZONE:Asia/Tokyo
BEGIN:VEVENT
UID:event19915@Tokyo Gig Guide
DTSTAMP:20260420T201143Z
CATEGORIES:Acoustic\, Avant garde\, Instrumental\, Progressive
DESCRIPTION:ERA (Akihisa Tsuboi\, Natsuki Kido)\nCategory: Acoustic\, Avant
  garde\, Instrumental\, Progressive\nLink: https://www.tokyogigguide.com/i
 ndex.php?option=com_jem&view=event&id=19915:era-akihisa-tsuboi-natsuki-kid
 o&Itemid=1094\n
DTSTART:20180805T183000
DTEND:20180805T183000
LOCATION:Jirokichi\,Koenji Bldg B1\, 2-3-4 Koenji-kita\,Koenji
SUMMARY:ERA (Akihisa Tsuboi\, Natsuki Kido)
URL:https://www.tokyogigguide.com/index.php?option=com_jem&view=event&id=19
 915:era-akihisa-tsuboi-natsuki-kido&Itemid=1094
END:VEVENT
END:VCALENDAR
