BEGIN:VCALENDAR
VERSION:2.0
PRODID:-//104.152.168.27//NONSGML kigkonsult.se iCalcreator 2.20//
CALSCALE:GREGORIAN
METHOD:PUBLISH
X-WR-TIMEZONE:Asia/Tokyo
BEGIN:VEVENT
UID:event20113@Tokyo Gig Guide
DTSTAMP:20260423T182001Z
CATEGORIES:Avant garde\, Blues\, Instrumental\, Rock
DESCRIPTION:COIL (Natsuki Kido\, Takeharu Hayakawa\, Tsutomu Nakayama\, Eij
 i Tanaka)\nCategory: Avant garde\, Blues\, Instrumental\, Rock\nLink: http
 s://www.tokyogigguide.com/index.php?option=com_jem&view=event&id=20113:coi
 l-natsuki-kido-takeharu-hayakawa-tsutomu-nakayama-eiji-tanaka&Itemid=1094
 \n
DTSTART:20180816T183000
DTEND:20180816T183000
LOCATION:Jirokichi\,Koenji Bldg B1\, 2-3-4 Koenji-kita\,Koenji
SUMMARY:COIL (Natsuki Kido\, Takeharu Hayakawa\, Tsutomu Nakayama\, Eiji Ta
 naka)
URL:https://www.tokyogigguide.com/index.php?option=com_jem&view=event&id=20
 113:coil-natsuki-kido-takeharu-hayakawa-tsutomu-nakayama-eiji-tanaka&Itemi
 d=1094
END:VEVENT
END:VCALENDAR
