BEGIN:VCALENDAR
VERSION:2.0
PRODID:-//104.152.168.27//NONSGML kigkonsult.se iCalcreator 2.20//
CALSCALE:GREGORIAN
METHOD:PUBLISH
X-WR-TIMEZONE:Asia/Tokyo
BEGIN:VEVENT
UID:event20114@Tokyo Gig Guide
DTSTAMP:20260420T220557Z
CATEGORIES:Jazz\, Rock
DESCRIPTION:Natsuki Kido\, Satoshi Otani\, Youichirou Yamauchi\nCategory: J
 azz\, Rock\nLink: https://www.tokyogigguide.com/index.php?option=com_jem&v
 iew=event&id=20114:natsuki-kido-satoshi-otani-youichirou-yamauchi&Itemid=1
 094\n
DTSTART:20180817T183000
DTEND:20180817T183000
LOCATION:Dolphy\,2-17-4-2F Miyagawa-cho\, Naka-ku\, Yokohama\,Yokohama
SUMMARY:Natsuki Kido\, Satoshi Otani\, Youichirou Yamauchi
URL:https://www.tokyogigguide.com/index.php?option=com_jem&view=event&id=20
 114:natsuki-kido-satoshi-otani-youichirou-yamauchi&Itemid=1094
END:VEVENT
END:VCALENDAR
