BEGIN:VCALENDAR
VERSION:2.0
PRODID:-//104.152.168.27//NONSGML kigkonsult.se iCalcreator 2.20//
CALSCALE:GREGORIAN
METHOD:PUBLISH
X-WR-TIMEZONE:Asia/Tokyo
BEGIN:VEVENT
UID:event20234@Tokyo Gig Guide
DTSTAMP:20260425T103810Z
CATEGORIES:Rock\, Rock n Roll\, Shibuya-kei\, Shoegaze\, Ska
DESCRIPTION:Creep Down\, MARLA\, Midnight Snakes\, RIL\, Jeremy\, AMPCHARWA
 R\, Urchin Pace\, Impure Blood\, more\nCategory: Rock\, Rock n Roll\, Shib
 uya-kei\, Shoegaze\, Ska\nLink: https://www.tokyogigguide.com/index.php?op
 tion=com_jem&view=event&id=20234:creep-down-marla-midnight-snakes-ril-jere
 my-ampcharwar-urchin-pace-impure-blood-sabotage-et&Itemid=1094\n
DTSTART:20180901T130000
DTEND:20180901T130000
LOCATION:NOB\,Maruyamacho 1-3 BF\, Shibuya-ku\,Shibuya
SUMMARY:Creep Down\, MARLA\, Midnight Snakes\, RIL\, Jeremy\, AMPCHARWAR\, 
 Urchin Pace\, Impure Blood\, more
URL:https://www.tokyogigguide.com/index.php?option=com_jem&view=event&id=20
 234:creep-down-marla-midnight-snakes-ril-jeremy-ampcharwar-urchin-pace-imp
 ure-blood-sabotage-et&Itemid=1094
END:VEVENT
END:VCALENDAR
