BEGIN:VCALENDAR
VERSION:2.0
PRODID:-//104.152.168.27//NONSGML kigkonsult.se iCalcreator 2.20//
CALSCALE:GREGORIAN
METHOD:PUBLISH
X-WR-TIMEZONE:Asia/Tokyo
BEGIN:VEVENT
UID:event20534@Tokyo Gig Guide
DTSTAMP:20260422T083344Z
CATEGORIES:Funk\, Garage Rock\, New Orleans\, Rock
DESCRIPTION:Hironari Ishikawa & Mochida  Session\nCategory: Funk\, Garage R
 ock\, New Orleans\, Rock\nLink: https://www.tokyogigguide.com/index.php?op
 tion=com_jem&view=event&id=20534:hironari-ishikawa-mochida-session&Itemid=
 1094\n
DTSTART:20180907T183000
DTEND:20180907T183000
LOCATION:Jirokichi\,Koenji Bldg B1\, 2-3-4 Koenji-kita\,Koenji
SUMMARY:Hironari Ishikawa & Mochida  Session
URL:https://www.tokyogigguide.com/index.php?option=com_jem&view=event&id=20
 534:hironari-ishikawa-mochida-session&Itemid=1094
END:VEVENT
END:VCALENDAR
