BEGIN:VCALENDAR
VERSION:2.0
PRODID:-//104.152.168.27//NONSGML kigkonsult.se iCalcreator 2.20//
CALSCALE:GREGORIAN
METHOD:PUBLISH
X-WR-TIMEZONE:Asia/Tokyo
BEGIN:VEVENT
UID:event20546@Tokyo Gig Guide
DTSTAMP:20260422T225349Z
CATEGORIES:Avant garde\, Improvised\, Instrumental\, Progressive
DESCRIPTION:ERA Plug-IN! (Akihisa Tsuboi\, Natsuki Kido\, Kenji Sato\, Youi
 chi Okabe)\nCategory: Avant garde\, Improvised\, Instrumental\, Progressiv
 e\nLink: https://www.tokyogigguide.com/index.php?option=com_jem&view=event
 &id=20546:era-plug-in-akihisa-tsuboi-natsuki-kido-kenji-sato-youichi-okabe
 &Itemid=1094\n
DTSTART:20181009T183000
DTEND:20181009T183000
LOCATION:Dolphy\,2-17-4-2F Miyagawa-cho\, Naka-ku\, Yokohama\,Yokohama
SUMMARY:ERA Plug-IN! (Akihisa Tsuboi\, Natsuki Kido\, Kenji Sato\, Youichi 
 Okabe)
URL:https://www.tokyogigguide.com/index.php?option=com_jem&view=event&id=20
 546:era-plug-in-akihisa-tsuboi-natsuki-kido-kenji-sato-youichi-okabe&Itemi
 d=1094
END:VEVENT
END:VCALENDAR
