BEGIN:VCALENDAR
VERSION:2.0
PRODID:-//104.152.168.27//NONSGML kigkonsult.se iCalcreator 2.20//
CALSCALE:GREGORIAN
METHOD:PUBLISH
X-WR-TIMEZONE:Asia/Tokyo
BEGIN:VEVENT
UID:event20823@Tokyo Gig Guide
DTSTAMP:20260421T203009Z
CATEGORIES:Acoustic\, Avant garde\, Instrumental\, Progressive
DESCRIPTION:ERA (Natsuki Kido\, Akihisa Tsuboi)\nCategory: Acoustic\, Avant
  garde\, Instrumental\, Progressive\nLink: https://www.tokyogigguide.com/i
 ndex.php?option=com_jem&view=event&id=20823:era-natsuki-kido-akihisa-tsubo
 i&Itemid=1094\n
DTSTART:20181118T183000
DTEND:20181118T183000
LOCATION:Jirokichi\,Koenji Bldg B1\, 2-3-4 Koenji-kita\,Koenji
SUMMARY:ERA (Natsuki Kido\, Akihisa Tsuboi)
URL:https://www.tokyogigguide.com/index.php?option=com_jem&view=event&id=20
 823:era-natsuki-kido-akihisa-tsuboi&Itemid=1094
END:VEVENT
END:VCALENDAR
