BEGIN:VCALENDAR
VERSION:2.0
PRODID:-//104.152.168.27//NONSGML kigkonsult.se iCalcreator 2.20//
CALSCALE:GREGORIAN
METHOD:PUBLISH
X-WR-TIMEZONE:Asia/Tokyo
BEGIN:VEVENT
UID:event20912@Tokyo Gig Guide
DTSTAMP:20260421T220153Z
CATEGORIES:Hard Rock\, Instrumental
DESCRIPTION:Masatoshi Mizuno\, Natsuki Kido\, Mari Masutani\nCategory: Hard
  Rock\, Instrumental\nLink: https://www.tokyogigguide.com/index.php?option
 =com_jem&view=event&id=20912:masatoshi-mizuno-natsuki-kido-mari-masutani&I
 temid=1094\n
DTSTART:20190107T183000
DTEND:20190107T183000
LOCATION:Ongakushitsu DX\,B1F 3-20-4 Nishiwaseda Shinjuku-ku Tokyo\,Takadan
 obaba
SUMMARY:Masatoshi Mizuno\, Natsuki Kido\, Mari Masutani
URL:https://www.tokyogigguide.com/index.php?option=com_jem&view=event&id=20
 912:masatoshi-mizuno-natsuki-kido-mari-masutani&Itemid=1094
END:VEVENT
END:VCALENDAR
