BEGIN:VCALENDAR
VERSION:2.0
PRODID:-//104.152.168.27//NONSGML kigkonsult.se iCalcreator 2.20//
CALSCALE:GREGORIAN
METHOD:PUBLISH
X-WR-TIMEZONE:Asia/Tokyo
BEGIN:VEVENT
UID:event20913@Tokyo Gig Guide
DTSTAMP:20260420T194134Z
CATEGORIES:Acoustic\, Blues\, Instrumental\, Jazz
DESCRIPTION:FRET LAND (Yoshihiro Arita\, Natsuki Kido\, Shunji Takenaka)\nC
 ategory: Acoustic\, Blues\, Instrumental\, Jazz\nLink: https://www.tokyogi
 gguide.com/index.php?option=com_jem&view=event&id=20913:fret-land-yoshihir
 o-arita-natsuki-kido-shunji-takenaka&Itemid=1094\n
DTSTART:20190109T183000
DTEND:20190109T183000
LOCATION:Dolphy\,2-17-4-2F Miyagawa-cho\, Naka-ku\, Yokohama\,Yokohama
SUMMARY:FRET LAND (Yoshihiro Arita\, Natsuki Kido\, Shunji Takenaka)
URL:https://www.tokyogigguide.com/index.php?option=com_jem&view=event&id=20
 913:fret-land-yoshihiro-arita-natsuki-kido-shunji-takenaka&Itemid=1094
END:VEVENT
END:VCALENDAR
