BEGIN:VCALENDAR
VERSION:2.0
PRODID:-//104.152.168.27//NONSGML kigkonsult.se iCalcreator 2.20//
CALSCALE:GREGORIAN
METHOD:PUBLISH
X-WR-TIMEZONE:Asia/Tokyo
BEGIN:VEVENT
UID:event20915@Tokyo Gig Guide
DTSTAMP:20260420T225819Z
CATEGORIES:Acoustic\, Blues\, Instrumental\, Jazz
DESCRIPTION:FRET LAND (Yoshihiro Arita\, Natsuki Kido\, Shunji Takenaka)\nC
 ategory: Acoustic\, Blues\, Instrumental\, Jazz\nLink: https://www.tokyogi
 gguide.com/index.php?option=com_jem&view=event&id=20915:fret-land-yoshihir
 o-arita-natsuki-kido-shunji-takenaka&Itemid=1094\n
DTSTART:20190130T190000
DTEND:20190130T190000
LOCATION:Cabin\,5F\, 2-7-23\, Nakacho\, Atsugi-shi\, Kanagawa\,Atsugi
SUMMARY:FRET LAND (Yoshihiro Arita\, Natsuki Kido\, Shunji Takenaka)
URL:https://www.tokyogigguide.com/index.php?option=com_jem&view=event&id=20
 915:fret-land-yoshihiro-arita-natsuki-kido-shunji-takenaka&Itemid=1094
END:VEVENT
END:VCALENDAR
