BEGIN:VCALENDAR
VERSION:2.0
PRODID:-//104.152.168.27//NONSGML kigkonsult.se iCalcreator 2.20//
CALSCALE:GREGORIAN
METHOD:PUBLISH
X-WR-TIMEZONE:Asia/Tokyo
BEGIN:VEVENT
UID:event21313@Tokyo Gig Guide
DTSTAMP:20260421T022649Z
CATEGORIES:Blues\, Instrumental\, Jazz\, Rock
DESCRIPTION:Natsuki Kido\, Tomokazu Sugimoto\, Yoshihito Eto\nCategory: Blu
 es\, Instrumental\, Jazz\, Rock\nLink: https://www.tokyogigguide.com/index
 .php?option=com_jem&view=event&id=21313:natsuki-kido-tomokazu-sugimoto-yos
 hihito-eto&Itemid=1094\n
DTSTART:20190121T183000
DTEND:20190121T183000
LOCATION:Dolphy\,2-17-4-2F Miyagawa-cho\, Naka-ku\, Yokohama\,Yokohama
SUMMARY:Natsuki Kido\, Tomokazu Sugimoto\, Yoshihito Eto
URL:https://www.tokyogigguide.com/index.php?option=com_jem&view=event&id=21
 313:natsuki-kido-tomokazu-sugimoto-yoshihito-eto&Itemid=1094
END:VEVENT
END:VCALENDAR
