BEGIN:VCALENDAR
VERSION:2.0
PRODID:-//104.152.168.27//NONSGML kigkonsult.se iCalcreator 2.20//
CALSCALE:GREGORIAN
METHOD:PUBLISH
X-WR-TIMEZONE:Asia/Tokyo
BEGIN:VEVENT
UID:event21318@Tokyo Gig Guide
DTSTAMP:20260420T161051Z
CATEGORIES:Instrumental\, Avant garde\, Experimental\, Free Jazz\, Improvis
 ed
DESCRIPTION:Yukihiro Isso\, Kazuto Shimizu\, Tatsuya Yoshida\nCategory: Ins
 trumental\, Avant garde\, Experimental\, Free Jazz\, Improvised\nLink: htt
 ps://www.tokyogigguide.com/index.php?option=com_jem&view=event&id=21318:yu
 kihiro-isso-kazuto-shimizu-tatsuya-yoshida&Itemid=1094\n
DTSTART:20181230T180000
DTEND:20181230T180000
LOCATION:In-F\,3F 3-4-19 higashiooizumi\, nerima-ku\, Tokyo\,Oizumigakuen
SUMMARY:Yukihiro Isso\, Kazuto Shimizu\, Tatsuya Yoshida
URL:https://www.tokyogigguide.com/index.php?option=com_jem&view=event&id=21
 318:yukihiro-isso-kazuto-shimizu-tatsuya-yoshida&Itemid=1094
END:VEVENT
END:VCALENDAR
