BEGIN:VCALENDAR
VERSION:2.0
PRODID:-//104.152.168.27//NONSGML kigkonsult.se iCalcreator 2.20//
CALSCALE:GREGORIAN
METHOD:PUBLISH
X-WR-TIMEZONE:Asia/Tokyo
BEGIN:VEVENT
UID:event21338@Tokyo Gig Guide
DTSTAMP:20260422T202209Z
CATEGORIES:All Mix\, Dance\, Instrumental\, Party
DESCRIPTION:2019 Countdown Live: Kiyohiko SEMBA & Cargamos\nCategory: All M
 ix\, Dance\, Instrumental\, Party\nLink: https://www.tokyogigguide.com/ind
 ex.php?option=com_jem&view=event&id=21338:2019-countdown-live-kiyohiko-sem
 ba-cargamos&Itemid=1094\n
DTSTART:20181231T210000
DTEND:20181231T210000
LOCATION:Jirokichi\,Koenji Bldg B1\, 2-3-4 Koenji-kita\,Koenji
SUMMARY:2019 Countdown Live: Kiyohiko SEMBA & Cargamos
URL:https://www.tokyogigguide.com/index.php?option=com_jem&view=event&id=21
 338:2019-countdown-live-kiyohiko-semba-cargamos&Itemid=1094
END:VEVENT
END:VCALENDAR
