BEGIN:VCALENDAR
VERSION:2.0
PRODID:-//104.152.168.27//NONSGML kigkonsult.se iCalcreator 2.20//
CALSCALE:GREGORIAN
METHOD:PUBLISH
X-WR-TIMEZONE:Asia/Tokyo
BEGIN:VEVENT
UID:event22020@Tokyo Gig Guide
DTSTAMP:20260423T192654Z
CATEGORIES:Electronic\, Free Jazz\, Instrumental\, Jazz\, Rock
DESCRIPTION:Enzo Favata Crossing Quartet\nCategory: Electronic\, Free Jazz\
 , Instrumental\, Jazz\, Rock\nLink: https://www.tokyogigguide.com/index.ph
 p?option=com_jem&view=event&id=22020:enzo-favata-crossing-quartet&Itemid=1
 094\n
DTSTART:20190411T183000
DTEND:20190411T183000
LOCATION:Jirokichi\,Koenji Bldg B1\, 2-3-4 Koenji-kita\,Koenji
SUMMARY:Enzo Favata Crossing Quartet
URL:https://www.tokyogigguide.com/index.php?option=com_jem&view=event&id=22
 020:enzo-favata-crossing-quartet&Itemid=1094
END:VEVENT
END:VCALENDAR
