BEGIN:VCALENDAR
VERSION:2.0
PRODID:-//104.152.168.27//NONSGML kigkonsult.se iCalcreator 2.20//
CALSCALE:GREGORIAN
METHOD:PUBLISH
X-WR-TIMEZONE:Asia/Tokyo
BEGIN:VEVENT
UID:event2216@Tokyo Gig Guide
DTSTAMP:20260423T020347Z
CATEGORIES:Art
DESCRIPTION:Suishou No Fune\, hasegawa-shizuo\, Sabu Orimo + Masumi Matsush
 ita\, Memekurage\nCategory: Art\nLink: https://www.tokyogigguide.com/index
 .php?option=com_jem&view=event&id=2216:suishou-no-funehasegawa-shizuosabu-
 orimomasumi-matsushitamemekurage&Itemid=1094\n
DTSTART:20100104T183000
DTEND:20100104T183000
LOCATION:Showboat\,Oak Hill Koenji B1F\, 3-17-2 Koenji Kita\,Koenji
SUMMARY:Suishou No Fune\, hasegawa-shizuo\, Sabu Orimo + Masumi Matsushita\
 , Memekurage
URL:https://www.tokyogigguide.com/index.php?option=com_jem&view=event&id=22
 16:suishou-no-funehasegawa-shizuosabu-orimomasumi-matsushitamemekurage&Ite
 mid=1094
END:VEVENT
END:VCALENDAR
