BEGIN:VCALENDAR
VERSION:2.0
PRODID:-//104.152.168.27//NONSGML kigkonsult.se iCalcreator 2.20//
CALSCALE:GREGORIAN
METHOD:PUBLISH
X-WR-TIMEZONE:Asia/Tokyo
BEGIN:VEVENT
UID:event22276@Tokyo Gig Guide
DTSTAMP:20260421T063749Z
CATEGORIES:All Mix
DESCRIPTION:CHIKO\, Natsuki Kido\, Benisuke Sakai\, Tomohiro Yahiro\nCatego
 ry: All Mix\nLink: https://www.tokyogigguide.com/index.php?option=com_jem&
 view=event&id=22276:chiko-natsuki-kido-benisuke-sakai-tomohiro-yahiro&Item
 id=1094\n
DTSTART:20190507T183000
DTEND:20190507T183000
LOCATION:Dolphy\,2-17-4-2F Miyagawa-cho\, Naka-ku\, Yokohama\,Yokohama
SUMMARY:CHIKO\, Natsuki Kido\, Benisuke Sakai\, Tomohiro Yahiro
URL:https://www.tokyogigguide.com/index.php?option=com_jem&view=event&id=22
 276:chiko-natsuki-kido-benisuke-sakai-tomohiro-yahiro&Itemid=1094
END:VEVENT
END:VCALENDAR
