BEGIN:VCALENDAR
VERSION:2.0
PRODID:-//104.152.168.27//NONSGML kigkonsult.se iCalcreator 2.20//
CALSCALE:GREGORIAN
METHOD:PUBLISH
X-WR-TIMEZONE:Asia/Tokyo
BEGIN:VEVENT
UID:event22404@Tokyo Gig Guide
DTSTAMP:20260422T035907Z
CATEGORIES:Blues\, Rock
DESCRIPTION:Yoshihito Eto\, Natsuki Kido\, Kenji Sato\nCategory: Blues\, Ro
 ck\nLink: https://www.tokyogigguide.com/index.php?option=com_jem&view=even
 t&id=22404:yoshihito-eto-natsuki-kido-kenji-sato&Itemid=1094\n
DTSTART:20190614T183000
DTEND:20190614T183000
LOCATION:Jirokichi\,Koenji Bldg B1\, 2-3-4 Koenji-kita\,Koenji
SUMMARY:Yoshihito Eto\, Natsuki Kido\, Kenji Sato
URL:https://www.tokyogigguide.com/index.php?option=com_jem&view=event&id=22
 404:yoshihito-eto-natsuki-kido-kenji-sato&Itemid=1094
END:VEVENT
END:VCALENDAR
