BEGIN:VCALENDAR
VERSION:2.0
PRODID:-//104.152.168.27//NONSGML kigkonsult.se iCalcreator 2.20//
CALSCALE:GREGORIAN
METHOD:PUBLISH
X-WR-TIMEZONE:Asia/Tokyo
BEGIN:VEVENT
UID:event2241@Tokyo Gig Guide
DTSTAMP:20260423T023357Z
CATEGORIES:Experimental
DESCRIPTION:SISTER IODINE\, Maruta+TABATA+HIKO\, Ningen Dogs Orchestra\, Ba
 cteria\, Hair Stylistics\nCategory: Experimental\nLink: https://www.tokyog
 igguide.com/index.php?option=com_jem&view=event&id=2241:sister-iodinemarut
 atabatahikoningen-dogs-orchestrabacteriahair-stylistics&Itemid=1094\n
DTSTART:20100118T183000
DTEND:20100118T183000
LOCATION:Showboat\,Oak Hill Koenji B1F\, 3-17-2 Koenji Kita\,Koenji
SUMMARY:SISTER IODINE\, Maruta+TABATA+HIKO\, Ningen Dogs Orchestra\, Bacter
 ia\, Hair Stylistics
URL:https://www.tokyogigguide.com/index.php?option=com_jem&view=event&id=22
 41:sister-iodinemarutatabatahikoningen-dogs-orchestrabacteriahair-stylisti
 cs&Itemid=1094
END:VEVENT
END:VCALENDAR
