BEGIN:VCALENDAR
VERSION:2.0
PRODID:-//104.152.168.27//NONSGML kigkonsult.se iCalcreator 2.20//
CALSCALE:GREGORIAN
METHOD:PUBLISH
X-WR-TIMEZONE:Asia/Tokyo
BEGIN:VEVENT
UID:event22411@Tokyo Gig Guide
DTSTAMP:20260422T225422Z
CATEGORIES:Avant garde\, Instrumental\, Progressive
DESCRIPTION:bondagefruit (Natsuki Kido\, Yuji Katsui\, Hirohiko Otsubo\, Ku
 miko Takara\, Youichi Okabe)\nCategory: Avant garde\, Instrumental\, Progr
 essive\nLink: https://www.tokyogigguide.com/index.php?option=com_jem&view=
 event&id=22411:bondagefruit-natsuki-kido-yuji-katsui-hirohiko-otsubo-kumik
 o-takara-youichi-okabe&Itemid=1094\n
DTSTART:20190623T183000
DTEND:20190623T183000
LOCATION:Jirokichi\,Koenji Bldg B1\, 2-3-4 Koenji-kita\,Koenji
SUMMARY:bondagefruit (Natsuki Kido\, Yuji Katsui\, Hirohiko Otsubo\, Kumiko
  Takara\, Youichi Okabe)
URL:https://www.tokyogigguide.com/index.php?option=com_jem&view=event&id=22
 411:bondagefruit-natsuki-kido-yuji-katsui-hirohiko-otsubo-kumiko-takara-yo
 uichi-okabe&Itemid=1094
END:VEVENT
END:VCALENDAR
