BEGIN:VCALENDAR
VERSION:2.0
PRODID:-//104.152.168.27//NONSGML kigkonsult.se iCalcreator 2.20//
CALSCALE:GREGORIAN
METHOD:PUBLISH
X-WR-TIMEZONE:Asia/Tokyo
BEGIN:VEVENT
UID:event2264@Tokyo Gig Guide
DTSTAMP:20260422T154729Z
CATEGORIES:Experimental
DESCRIPTION:Line(s) : Pitbeat (from Italy)\, TREEHEAD (flower art)\, and mo
 re\nCategory: Experimental\nLink: https://www.tokyogigguide.com/index.php?
 option=com_jem&view=event&id=2264:lines--pitbeat-from-italy-treehead-flowe
 r-art-and-more&Itemid=1094\n
DTSTART:20100115T190000
DTEND:20100115T190000
LOCATION:Showboat\,Oak Hill Koenji B1F\, 3-17-2 Koenji Kita\,Koenji
SUMMARY:Line(s) : Pitbeat (from Italy)\, TREEHEAD (flower art)\, and more
URL:https://www.tokyogigguide.com/index.php?option=com_jem&view=event&id=22
 64:lines--pitbeat-from-italy-treehead-flower-art-and-more&Itemid=1094
END:VEVENT
END:VCALENDAR
