BEGIN:VCALENDAR
VERSION:2.0
PRODID:-//104.152.168.27//NONSGML kigkonsult.se iCalcreator 2.20//
CALSCALE:GREGORIAN
METHOD:PUBLISH
X-WR-TIMEZONE:Asia/Tokyo
BEGIN:VEVENT
UID:event22783@Tokyo Gig Guide
DTSTAMP:20260421T112502Z
CATEGORIES:Hard Rock\, Instrumental
DESCRIPTION:Masatoshi Mizuno\, Natsuki Kido\, Mari Masutani + Eiji Otokawa
 \nCategory: Hard Rock\, Instrumental\nLink: https://www.tokyogigguide.com/
 index.php?option=com_jem&view=event&id=22783:masatoshi-mizuno-natsuki-kido
 -mari-masutani-eiji-otokawa&Itemid=1094\n
DTSTART:20190711T183000
DTEND:20190711T183000
LOCATION:Ongakushitsu DX\,B1F 3-20-4 Nishiwaseda Shinjuku-ku Tokyo\,Takadan
 obaba
SUMMARY:Masatoshi Mizuno\, Natsuki Kido\, Mari Masutani + Eiji Otokawa
URL:https://www.tokyogigguide.com/index.php?option=com_jem&view=event&id=22
 783:masatoshi-mizuno-natsuki-kido-mari-masutani-eiji-otokawa&Itemid=1094
END:VEVENT
END:VCALENDAR
