BEGIN:VCALENDAR
VERSION:2.0
PRODID:-//104.152.168.27//NONSGML kigkonsult.se iCalcreator 2.20//
CALSCALE:GREGORIAN
METHOD:PUBLISH
X-WR-TIMEZONE:Asia/Tokyo
BEGIN:VEVENT
UID:event2279@Tokyo Gig Guide
DTSTAMP:20260426T004347Z
CATEGORIES:Hardcore
DESCRIPTION:EARTH DOOM II w/ Coffins\, Viloscohaagen\, Holy and Blight\, TD
 K\nCategory: Hardcore\nLink: https://www.tokyogigguide.com/index.php?optio
 n=com_jem&view=event&id=2279:earth-doom-ii-coffins-viloscohaagen-holy-and-
 blight-tdk&Itemid=1094\n
DTSTART:20100118T190000
DTEND:20100118T190000
LOCATION:Earthdom\,Lisbon Bldg B1F\, 3-32-3 Okubo\, Shinjuku-ku\,Okubo
SUMMARY:EARTH DOOM II w/ Coffins\, Viloscohaagen\, Holy and Blight\, TDK
URL:https://www.tokyogigguide.com/index.php?option=com_jem&view=event&id=22
 79:earth-doom-ii-coffins-viloscohaagen-holy-and-blight-tdk&Itemid=1094
END:VEVENT
END:VCALENDAR
