BEGIN:VCALENDAR
VERSION:2.0
PRODID:-//104.152.168.27//NONSGML kigkonsult.se iCalcreator 2.20//
CALSCALE:GREGORIAN
METHOD:PUBLISH
X-WR-TIMEZONE:Asia/Tokyo
BEGIN:VEVENT
UID:event2285@Tokyo Gig Guide
DTSTAMP:20260419T182608Z
CATEGORIES:Indie
DESCRIPTION:MOST\, core of bells\nCategory: Indie\nLink: https://www.tokyog
 igguide.com/index.php?option=com_jem&view=event&id=2285:most-core-of-bells
 &Itemid=1094\n
DTSTART:20100130T180000
DTEND:20100130T180000
LOCATION:Three\,Kitazawa 5-18-1 B1F\, Setagaya-ku\, Tokyo\,Shimokitazawa
SUMMARY:MOST\, core of bells
URL:https://www.tokyogigguide.com/index.php?option=com_jem&view=event&id=22
 85:most-core-of-bells&Itemid=1094
END:VEVENT
END:VCALENDAR
