BEGIN:VCALENDAR
VERSION:2.0
PRODID:-//104.152.168.27//NONSGML kigkonsult.se iCalcreator 2.20//
CALSCALE:GREGORIAN
METHOD:PUBLISH
X-WR-TIMEZONE:Asia/Tokyo
BEGIN:VEVENT
UID:event2292@Tokyo Gig Guide
DTSTAMP:20260420T234421Z
CATEGORIES:Psychedelic
DESCRIPTION:SuiseiNoboAz\, UMIBACHI\, KiNGONS\nCategory: Psychedelic\nLink:
  https://www.tokyogigguide.com/index.php?option=com_jem&view=event&id=2292
 :suiseinoboaz-umibachi-kingons&Itemid=1094\n
DTSTART:20100224T190000
DTEND:20100224T190000
LOCATION:Three\,Kitazawa 5-18-1 B1F\, Setagaya-ku\, Tokyo\,Shimokitazawa
SUMMARY:SuiseiNoboAz\, UMIBACHI\, KiNGONS
URL:https://www.tokyogigguide.com/index.php?option=com_jem&view=event&id=22
 92:suiseinoboaz-umibachi-kingons&Itemid=1094
END:VEVENT
END:VCALENDAR
