BEGIN:VCALENDAR
VERSION:2.0
PRODID:-//104.152.168.27//NONSGML kigkonsult.se iCalcreator 2.20//
CALSCALE:GREGORIAN
METHOD:PUBLISH
X-WR-TIMEZONE:Asia/Tokyo
BEGIN:VEVENT
UID:event23045@Tokyo Gig Guide
DTSTAMP:20260422T022748Z
CATEGORIES:Avant garde\, Improvised\, Instrumental\, Jazz\, Progressive
DESCRIPTION:SEKKUTSU JEAN (Tatsuya Yoshida\, Kenji Sato) + Dairo Suga\nCate
 gory: Avant garde\, Improvised\, Instrumental\, Jazz\, Progressive\nLink: 
 https://www.tokyogigguide.com/index.php?option=com_jem&view=event&id=23045
 :sekkutsu-jean-tatsuya-yoshida-kenji-sato-dairo-suga&Itemid=1094\n
DTSTART:20190830T183000
DTEND:20190830T183000
LOCATION:Jirokichi\,Koenji Bldg B1\, 2-3-4 Koenji-kita\,Koenji
SUMMARY:SEKKUTSU JEAN (Tatsuya Yoshida\, Kenji Sato) + Dairo Suga
URL:https://www.tokyogigguide.com/index.php?option=com_jem&view=event&id=23
 045:sekkutsu-jean-tatsuya-yoshida-kenji-sato-dairo-suga&Itemid=1094
END:VEVENT
END:VCALENDAR
