BEGIN:VCALENDAR
VERSION:2.0
PRODID:-//104.152.168.27//NONSGML kigkonsult.se iCalcreator 2.20//
CALSCALE:GREGORIAN
METHOD:PUBLISH
X-WR-TIMEZONE:Asia/Tokyo
BEGIN:VEVENT
UID:event24015@Tokyo Gig Guide
DTSTAMP:20260421T031703Z
CATEGORIES:Free Jazz\, Improvised\, Jazz
DESCRIPTION:Reona (tap)\, Fumio ITABASHI (p)\, Takashi Seo (cb)\nCategory: 
 Free Jazz\, Improvised\, Jazz\nLink: https://www.tokyogigguide.com/index.p
 hp?option=com_jem&view=event&id=24015:reona-tap-fumio-itabashi-p-takashi-s
 eo-cb&Itemid=1094\n
DTSTART:20191114T183000
DTEND:20191114T183000
LOCATION:Dolphy\,2-17-4-2F Miyagawa-cho\, Naka-ku\, Yokohama\,Yokohama
SUMMARY:Reona (tap)\, Fumio ITABASHI (p)\, Takashi Seo (cb)
URL:https://www.tokyogigguide.com/index.php?option=com_jem&view=event&id=24
 015:reona-tap-fumio-itabashi-p-takashi-seo-cb&Itemid=1094
END:VEVENT
END:VCALENDAR
