BEGIN:VCALENDAR
VERSION:2.0
PRODID:-//104.152.168.27//NONSGML kigkonsult.se iCalcreator 2.20//
CALSCALE:GREGORIAN
METHOD:PUBLISH
X-WR-TIMEZONE:Asia/Tokyo
BEGIN:VEVENT
UID:event24362@Tokyo Gig Guide
DTSTAMP:20260421T031515Z
CATEGORIES:Acoustic\, Avant garde\, Instrumental\, Progressive
DESCRIPTION:ERA (Akihisa Tsuboi\, Natsuki Kido)\nCategory: Acoustic\, Avant
  garde\, Instrumental\, Progressive\nLink: https://www.tokyogigguide.com/i
 ndex.php?option=com_jem&view=event&id=24362:era-akihisa-tsuboi-natsuki-kid
 o&Itemid=1094\n
DTSTART:20200112T170000
DTEND:20200112T170000
LOCATION:Cabin\,5F\, 2-7-23\, Nakacho\, Atsugi-shi\, Kanagawa\,Atsugi
SUMMARY:ERA (Akihisa Tsuboi\, Natsuki Kido)
URL:https://www.tokyogigguide.com/index.php?option=com_jem&view=event&id=24
 362:era-akihisa-tsuboi-natsuki-kido&Itemid=1094
END:VEVENT
END:VCALENDAR
