BEGIN:VCALENDAR
VERSION:2.0
PRODID:-//104.152.168.27//NONSGML kigkonsult.se iCalcreator 2.20//
CALSCALE:GREGORIAN
METHOD:PUBLISH
X-WR-TIMEZONE:Asia/Tokyo
BEGIN:VEVENT
UID:event24369@Tokyo Gig Guide
DTSTAMP:20260421T031018Z
CATEGORIES:Rock
DESCRIPTION:Play Rock! (Yoshihito Eto\, Natsuki Kido\, Kenji Sato)\nCategor
 y: Rock\nLink: https://www.tokyogigguide.com/index.php?option=com_jem&view
 =event&id=24369:play-rock-yoshihito-eto-natsuki-kido-kenji-sato&Itemid=109
 4\n
DTSTART:20200108T183000
DTEND:20200108T183000
LOCATION:Jirokichi\,Koenji Bldg B1\, 2-3-4 Koenji-kita\,Koenji
SUMMARY:Play Rock! (Yoshihito Eto\, Natsuki Kido\, Kenji Sato)
URL:https://www.tokyogigguide.com/index.php?option=com_jem&view=event&id=24
 369:play-rock-yoshihito-eto-natsuki-kido-kenji-sato&Itemid=1094
END:VEVENT
END:VCALENDAR
