BEGIN:VCALENDAR
VERSION:2.0
PRODID:-//104.152.168.27//NONSGML kigkonsult.se iCalcreator 2.20//
CALSCALE:GREGORIAN
METHOD:PUBLISH
X-WR-TIMEZONE:Asia/Tokyo
BEGIN:VEVENT
UID:event24374@Tokyo Gig Guide
DTSTAMP:20260420T134502Z
CATEGORIES:Acoustic\, Instrumental\, Latin
DESCRIPTION:Natsuki Kido Quinteto (Natsuki Kido\, Satoshi Kitamura\, Kumiko
  Kondo\, Hiroshi Kumada\, Toru Nishijima)\nCategory: Acoustic\, Instrument
 al\, Latin\nLink: https://www.tokyogigguide.com/index.php?option=com_jem&v
 iew=event&id=24374:natsuki-kido-quinteto-natsuki-kido-satoshi-kitamura-kum
 iko-kondo-hiroshi-kumada-toru-nishijima&Itemid=1094\n
DTSTART:20200129T183000
DTEND:20200129T183000
LOCATION:Dolphy\,2-17-4-2F Miyagawa-cho\, Naka-ku\, Yokohama\,Yokohama
SUMMARY:Natsuki Kido Quinteto (Natsuki Kido\, Satoshi Kitamura\, Kumiko Kon
 do\, Hiroshi Kumada\, Toru Nishijima)
URL:https://www.tokyogigguide.com/index.php?option=com_jem&view=event&id=24
 374:natsuki-kido-quinteto-natsuki-kido-satoshi-kitamura-kumiko-kondo-hiros
 hi-kumada-toru-nishijima&Itemid=1094
END:VEVENT
END:VCALENDAR
