BEGIN:VCALENDAR
VERSION:2.0
PRODID:-//104.152.168.27//NONSGML kigkonsult.se iCalcreator 2.20//
CALSCALE:GREGORIAN
METHOD:PUBLISH
X-WR-TIMEZONE:Asia/Tokyo
BEGIN:VEVENT
UID:event24556@Tokyo Gig Guide
DTSTAMP:20260424T074018Z
CATEGORIES:Indie-Pop\, Pop\, Rock
DESCRIPTION:Mika\nCategory: Indie-Pop\, Pop\, Rock\nLink: https://www.tokyo
 gigguide.com/index.php?option=com_jem&view=event&id=24556:mika&Itemid=1094
 \n
DTSTART:20200302T180000
DTEND:20200302T180000
LOCATION:Studio Coast\,2-2-10 Shin-Kiba\, Koto-ku\,Shin-Kiba
SUMMARY:Mika
URL:https://www.tokyogigguide.com/index.php?option=com_jem&view=event&id=24
 556:mika&Itemid=1094
END:VEVENT
END:VCALENDAR
