BEGIN:VCALENDAR
VERSION:2.0
PRODID:-//104.152.168.27//NONSGML kigkonsult.se iCalcreator 2.20//
CALSCALE:GREGORIAN
METHOD:PUBLISH
X-WR-TIMEZONE:Asia/Tokyo
BEGIN:VEVENT
UID:event24664@Tokyo Gig Guide
DTSTAMP:20260422T145905Z
CATEGORIES:Avant garde\, Instrumental\, Progressive
DESCRIPTION:Korekyojinn (Natsuki Kido\, Mitsuru Nasuno\, Tatsuya Yoshida) +
  Kiyomi Otaka\nCategory: Avant garde\, Instrumental\, Progressive\nLink: h
 ttps://www.tokyogigguide.com/index.php?option=com_jem&view=event&id=24664:
 korekyojinn-natsuki-kido-mitsuru-nasuno-tatsuya-yoshida-kiyomi-otaka&Itemi
 d=1094\n
DTSTART:20200307T180000
DTEND:20200307T180000
LOCATION:Ongakushitsu DX\,B1F 3-20-4 Nishiwaseda Shinjuku-ku Tokyo\,Takadan
 obaba
SUMMARY:Korekyojinn (Natsuki Kido\, Mitsuru Nasuno\, Tatsuya Yoshida) + Kiy
 omi Otaka
URL:https://www.tokyogigguide.com/index.php?option=com_jem&view=event&id=24
 664:korekyojinn-natsuki-kido-mitsuru-nasuno-tatsuya-yoshida-kiyomi-otaka&I
 temid=1094
END:VEVENT
END:VCALENDAR
