BEGIN:VCALENDAR
VERSION:2.0
PRODID:-//104.152.168.27//NONSGML kigkonsult.se iCalcreator 2.20//
CALSCALE:GREGORIAN
METHOD:PUBLISH
X-WR-TIMEZONE:Asia/Tokyo
BEGIN:VEVENT
UID:event2527@Tokyo Gig Guide
DTSTAMP:20260425T175557Z
CATEGORIES:Psychedelic
DESCRIPTION:Majutsu no Niwa\, NARITA Munehiro & TABATA Mitsuru DUO\, Sunday
 s & Cybele\nCategory: Psychedelic\nLink: https://www.tokyogigguide.com/ind
 ex.php?option=com_jem&view=event&id=2527:passion-a-intension-vol5&Itemid=1
 094\n
DTSTART:20100312T190000
DTEND:20100312T190000
LOCATION:Showboat\,Oak Hill Koenji B1F\, 3-17-2 Koenji Kita\,Koenji
SUMMARY:Majutsu no Niwa\, NARITA Munehiro & TABATA Mitsuru DUO\, Sundays & 
 Cybele
URL:https://www.tokyogigguide.com/index.php?option=com_jem&view=event&id=25
 27:passion-a-intension-vol5&Itemid=1094
END:VEVENT
END:VCALENDAR
