BEGIN:VCALENDAR
VERSION:2.0
PRODID:-//104.152.168.27//NONSGML kigkonsult.se iCalcreator 2.20//
CALSCALE:GREGORIAN
METHOD:PUBLISH
X-WR-TIMEZONE:Asia/Tokyo
BEGIN:VEVENT
UID:event25658@Tokyo Gig Guide
DTSTAMP:20260421T045838Z
CATEGORIES:Alternative\, Improvised\, Avant garde\, Progressive\, Psychedel
 ic
DESCRIPTION:MISSING HEADS (Kazuhide Yamaji (g) + Mitsuru Tabata (g) + Tatsu
 ya Yoshida (ds))\nCategory: Alternative\, Improvised\, Avant garde\, Progr
 essive\, Psychedelic\nLink: https://www.tokyogigguide.com/index.php?option
 =com_jem&view=event&id=25658:missing-heads-kazuhide-yamaji-g-mitsuru-tabat
 a-g-tatsuya-yoshida-ds&Itemid=1094\n
DTSTART:20220407T183000
DTEND:20220407T183000
LOCATION:Jirokichi\,Koenji Bldg B1\, 2-3-4 Koenji-kita\,Koenji
SUMMARY:MISSING HEADS (Kazuhide Yamaji (g) + Mitsuru Tabata (g) + Tatsuya Y
 oshida (ds))
URL:https://www.tokyogigguide.com/index.php?option=com_jem&view=event&id=25
 658:missing-heads-kazuhide-yamaji-g-mitsuru-tabata-g-tatsuya-yoshida-ds&It
 emid=1094
END:VEVENT
END:VCALENDAR
