BEGIN:VCALENDAR
VERSION:2.0
PRODID:-//104.152.168.27//NONSGML kigkonsult.se iCalcreator 2.20//
CALSCALE:GREGORIAN
METHOD:PUBLISH
X-WR-TIMEZONE:Asia/Tokyo
BEGIN:VEVENT
UID:event2602@Tokyo Gig Guide
DTSTAMP:20260422T033338Z
CATEGORIES:Indie-Rock
DESCRIPTION:Kings Avenue\nCategory: Indie-Rock\nLink: https://www.tokyogigg
 uide.com/index.php?option=com_jem&view=event&id=2602:kings-avenue-at-showb
 oat&Itemid=1094\n
DTSTART:20100414T180000
DTEND:20100414T180000
LOCATION:Showboat\,Oak Hill Koenji B1F\, 3-17-2 Koenji Kita\,Koenji
SUMMARY:Kings Avenue
URL:https://www.tokyogigguide.com/index.php?option=com_jem&view=event&id=26
 02:kings-avenue-at-showboat&Itemid=1094
END:VEVENT
END:VCALENDAR
