BEGIN:VCALENDAR
VERSION:2.0
PRODID:-//104.152.168.27//NONSGML kigkonsult.se iCalcreator 2.20//
CALSCALE:GREGORIAN
METHOD:PUBLISH
X-WR-TIMEZONE:Asia/Tokyo
BEGIN:VEVENT
UID:event2650@Tokyo Gig Guide
DTSTAMP:20260425T145506Z
CATEGORIES:Mixed Genre
DESCRIPTION:Candles\, N'toko\, cottonioo\, Back in Tokio\, Kiyokazu Onozaki
 \, Umbrella-X\nCategory: Mixed Genre\nLink: https://www.tokyogigguide.com/
 index.php?option=com_jem&view=event&id=2650:candles-ntoko-cottonioo-back-i
 n-tokio-kiyokazu-onozaki-umbrella-x&Itemid=1094\n
DTSTART:20100402T200000
DTEND:20100402T200000
LOCATION:Knock (Koenji)\,Koenji Minami 3-48-6  B1F\,Koenji
SUMMARY:Candles\, N'toko\, cottonioo\, Back in Tokio\, Kiyokazu Onozaki\, U
 mbrella-X
URL:https://www.tokyogigguide.com/index.php?option=com_jem&view=event&id=26
 50:candles-ntoko-cottonioo-back-in-tokio-kiyokazu-onozaki-umbrella-x&Itemi
 d=1094
END:VEVENT
END:VCALENDAR
