BEGIN:VCALENDAR
VERSION:2.0
PRODID:-//104.152.168.27//NONSGML kigkonsult.se iCalcreator 2.20//
CALSCALE:GREGORIAN
METHOD:PUBLISH
X-WR-TIMEZONE:Asia/Tokyo
BEGIN:VEVENT
UID:event26676@Tokyo Gig Guide
DTSTAMP:20260424T122616Z
CATEGORIES:Acoustic\, Classical
DESCRIPTION:babakaoruko\, takazumi yamaji\nCategory: Acoustic\, Classical\n
 Link: https://www.tokyogigguide.com/index.php?option=com_jem&view=event&id
 =26676:babakaoruko-takazumi-yamaji&Itemid=1094\n
DTSTART:20221209T190000
DTEND:20221209T190000
LOCATION:Stax Fred\,Maruyama House B1F\, 1-7-1 Umesato\, Suginami-ku\,Shin-
 Koenji
SUMMARY:babakaoruko\, takazumi yamaji
URL:https://www.tokyogigguide.com/index.php?option=com_jem&view=event&id=26
 676:babakaoruko-takazumi-yamaji&Itemid=1094
END:VEVENT
END:VCALENDAR
