BEGIN:VCALENDAR
VERSION:2.0
PRODID:-//104.152.168.27//NONSGML kigkonsult.se iCalcreator 2.20//
CALSCALE:GREGORIAN
METHOD:PUBLISH
X-WR-TIMEZONE:Asia/Tokyo
BEGIN:VEVENT
UID:event26856@Tokyo Gig Guide
DTSTAMP:20260425T233120Z
CATEGORIES:Art-Pop\, Avant-pop\, Chillwave\, Electro\, Electro-Pop
DESCRIPTION:geeker-natsumi\, aymk\, ゆっきゅん\, perfect young lady\nCategory: A
 rt-Pop\, Avant-pop\, Chillwave\, Electro\, Electro-Pop\nLink: https://www.
 tokyogigguide.com/index.php?option=com_jem&view=event&id=26856:geeker-nats
 umi-aymk-perfect-young-lady&Itemid=1094\n
DTSTART:20230226T180000
DTEND:20230226T180000
LOCATION:SPREAD\,2-12-6 Kitazawa\, Setagaya-ku\, Tokyo\,Shimokitazawa
SUMMARY:geeker-natsumi\, aymk\, ゆっきゅん\, perfect young lady
URL:https://www.tokyogigguide.com/index.php?option=com_jem&view=event&id=26
 856:geeker-natsumi-aymk-perfect-young-lady&Itemid=1094
END:VEVENT
END:VCALENDAR
