BEGIN:VCALENDAR
VERSION:2.0
PRODID:-//104.152.168.27//NONSGML kigkonsult.se iCalcreator 2.20//
CALSCALE:GREGORIAN
METHOD:PUBLISH
X-WR-TIMEZONE:Asia/Tokyo
BEGIN:VEVENT
UID:event27422@Tokyo Gig Guide
DTSTAMP:20260421T051636Z
CATEGORIES:Alternative\, Electro\, Instrumental\, Jazz\, Mixed Genre
DESCRIPTION:ENZO FAVATA THE CROSSING (from Italy)\nCategory: Alternative\, 
 Electro\, Instrumental\, Jazz\, Mixed Genre\nLink: https://www.tokyogiggui
 de.com/index.php?option=com_jem&view=event&id=27422:enzo-favata-the-crossi
 ng-from-italy&Itemid=1094\n
DTSTART:20230412T183000
DTEND:20230412T183000
LOCATION:Jirokichi\,Koenji Bldg B1\, 2-3-4 Koenji-kita\,Koenji
SUMMARY:ENZO FAVATA THE CROSSING (from Italy)
URL:https://www.tokyogigguide.com/index.php?option=com_jem&view=event&id=27
 422:enzo-favata-the-crossing-from-italy&Itemid=1094
END:VEVENT
END:VCALENDAR
