BEGIN:VCALENDAR
VERSION:2.0
PRODID:-//104.152.168.27//NONSGML kigkonsult.se iCalcreator 2.20//
CALSCALE:GREGORIAN
METHOD:PUBLISH
X-WR-TIMEZONE:Asia/Tokyo
BEGIN:VEVENT
UID:event27521@Tokyo Gig Guide
DTSTAMP:20260424T004530Z
CATEGORIES:Avant garde\, Dance\, Experimental\, Improvised
DESCRIPTION:川村祐介 (Yusuke Kawamura)\, 木村由 (Yu Kimura)\nCategory: Avant garde
 \, Dance\, Experimental\, Improvised\nLink: https://www.tokyogigguide.com/
 index.php?option=com_jem&view=event&id=27521:yusuke-kawamura-yu-kimura&Ite
 mid=1094\n
DTSTART:20230520T190000
DTEND:20230520T190000
LOCATION:Giee\,Sanko Bldg. Ba\, 2-3-9 Honmachi\, Kokubunji\, Tokyo\,Kokubun
 ji
SUMMARY:川村祐介 (Yusuke Kawamura)\, 木村由 (Yu Kimura)
URL:https://www.tokyogigguide.com/index.php?option=com_jem&view=event&id=27
 521:yusuke-kawamura-yu-kimura&Itemid=1094
END:VEVENT
END:VCALENDAR
