BEGIN:VCALENDAR
VERSION:2.0
PRODID:-//104.152.168.27//NONSGML kigkonsult.se iCalcreator 2.20//
CALSCALE:GREGORIAN
METHOD:PUBLISH
X-WR-TIMEZONE:Asia/Tokyo
BEGIN:VEVENT
UID:event2767@Tokyo Gig Guide
DTSTAMP:20260421T131209Z
CATEGORIES:Mixed Genre
DESCRIPTION:Akane Hosaka\, The Students\, DJ Grant McGaheran\, James Hadfie
 ld\, Ian Martin\, VJ craige\nCategory: Mixed Genre\nLink: https://www.toky
 ogigguide.com/index.php?option=com_jem&view=event&id=2767:akane-hosaka-the
 -students&Itemid=1094\n
DTSTART:20100501T193000
DTEND:20100501T193000
LOCATION:Knock (Koenji)\,Koenji Minami 3-48-6  B1F\,Koenji
SUMMARY:Akane Hosaka\, The Students\, DJ Grant McGaheran\, James Hadfield\,
  Ian Martin\, VJ craige
URL:https://www.tokyogigguide.com/index.php?option=com_jem&view=event&id=27
 67:akane-hosaka-the-students&Itemid=1094
END:VEVENT
END:VCALENDAR
