BEGIN:VCALENDAR
VERSION:2.0
PRODID:-//104.152.168.27//NONSGML kigkonsult.se iCalcreator 2.20//
CALSCALE:GREGORIAN
METHOD:PUBLISH
X-WR-TIMEZONE:Asia/Tokyo
BEGIN:VEVENT
UID:event27741@Tokyo Gig Guide
DTSTAMP:20260421T014159Z
CATEGORIES:Improvised
DESCRIPTION:Kondo Tatsuo\, Komori Keiko\, Kato Ippei\, Fujikake Masataka Qu
 artet with Ogawa Mishio\nCategory: Improvised\nLink: https://www.tokyogigg
 uide.com/index.php?option=com_jem&view=event&id=27741:kondo-tatsuo-komori-
 keiko-kato-ippei-fujikake-masataka-quartet-with-ogawa-mishio&Itemid=1094\n
DTSTART:20230725T183000
DTEND:20230725T183000
LOCATION:Jirokichi\,Koenji Bldg B1\, 2-3-4 Koenji-kita\,Koenji
SUMMARY:Kondo Tatsuo\, Komori Keiko\, Kato Ippei\, Fujikake Masataka Quarte
 t with Ogawa Mishio
URL:https://www.tokyogigguide.com/index.php?option=com_jem&view=event&id=27
 741:kondo-tatsuo-komori-keiko-kato-ippei-fujikake-masataka-quartet-with-og
 awa-mishio&Itemid=1094
END:VEVENT
END:VCALENDAR
