BEGIN:VCALENDAR
VERSION:2.0
PRODID:-//104.152.168.27//NONSGML kigkonsult.se iCalcreator 2.20//
CALSCALE:GREGORIAN
METHOD:PUBLISH
X-WR-TIMEZONE:Asia/Tokyo
BEGIN:VEVENT
UID:event27822@Tokyo Gig Guide
DTSTAMP:20260424T004742Z
CATEGORIES:Acoustic\, Ambient\, Jazz
DESCRIPTION:Eri Uenoyama BAND (Eri Uenoyama\, Natsuki Kido\, Jiro Okada\, Y
 ouichiro Yamauchi)\nCategory: Acoustic\, Ambient\, Jazz\nLink: https://www
 .tokyogigguide.com/index.php?option=com_jem&view=event&id=27822:eri-uenoya
 ma-band-eri-uenoyama-natsuki-kido-jiro-okada-youichiro-yamauchi&Itemid=109
 4\n
DTSTART:20230612T183000
DTEND:20230612T183000
LOCATION:Jirokichi\,Koenji Bldg B1\, 2-3-4 Koenji-kita\,Koenji
SUMMARY:Eri Uenoyama BAND (Eri Uenoyama\, Natsuki Kido\, Jiro Okada\, Youic
 hiro Yamauchi)
URL:https://www.tokyogigguide.com/index.php?option=com_jem&view=event&id=27
 822:eri-uenoyama-band-eri-uenoyama-natsuki-kido-jiro-okada-youichiro-yamau
 chi&Itemid=1094
END:VEVENT
END:VCALENDAR
