BEGIN:VCALENDAR
VERSION:2.0
PRODID:-//104.152.168.27//NONSGML kigkonsult.se iCalcreator 2.20//
CALSCALE:GREGORIAN
METHOD:PUBLISH
X-WR-TIMEZONE:Asia/Tokyo
BEGIN:VEVENT
UID:event28808@Tokyo Gig Guide
DTSTAMP:20260422T053142Z
CATEGORIES:Improvised
DESCRIPTION:KEIJI HAINO + MASATAKA FUJIKAKE DUO (灰野敬二 + 藤掛正隆 DUO)\nCategory
 : Improvised\nLink: https://www.tokyogigguide.com/index.php?option=com_jem
 &view=event&id=28808:keiji-haino-masataka-fujikake-duo-duo&Itemid=1094\n
DTSTART:20231130T183000
DTEND:20231130T183000
LOCATION:Jirokichi\,Koenji Bldg B1\, 2-3-4 Koenji-kita\,Koenji
SUMMARY:KEIJI HAINO + MASATAKA FUJIKAKE DUO (灰野敬二 + 藤掛正隆 DUO)
URL:https://www.tokyogigguide.com/index.php?option=com_jem&view=event&id=28
 808:keiji-haino-masataka-fujikake-duo-duo&Itemid=1094
END:VEVENT
END:VCALENDAR
